BEGIN:VCALENDAR
VERSION:2.0
PRODID:-//Éditions Jas Sauvages - ECPv6.15.20//NONSGML v1.0//EN
CALSCALE:GREGORIAN
METHOD:PUBLISH
X-WR-CALNAME:Éditions Jas Sauvages
X-ORIGINAL-URL:https://editions-jas-sauvages.fr
X-WR-CALDESC:Évènements pour Éditions Jas Sauvages
REFRESH-INTERVAL;VALUE=DURATION:PT1H
X-Robots-Tag:noindex
X-PUBLISHED-TTL:PT1H
BEGIN:VTIMEZONE
TZID:Europe/Paris
BEGIN:DAYLIGHT
TZOFFSETFROM:+0100
TZOFFSETTO:+0200
TZNAME:CEST
DTSTART:20230326T010000
END:DAYLIGHT
BEGIN:STANDARD
TZOFFSETFROM:+0200
TZOFFSETTO:+0100
TZNAME:CET
DTSTART:20231029T010000
END:STANDARD
BEGIN:DAYLIGHT
TZOFFSETFROM:+0100
TZOFFSETTO:+0200
TZNAME:CEST
DTSTART:20240331T010000
END:DAYLIGHT
BEGIN:STANDARD
TZOFFSETFROM:+0200
TZOFFSETTO:+0100
TZNAME:CET
DTSTART:20241027T010000
END:STANDARD
BEGIN:DAYLIGHT
TZOFFSETFROM:+0100
TZOFFSETTO:+0200
TZNAME:CEST
DTSTART:20250330T010000
END:DAYLIGHT
BEGIN:STANDARD
TZOFFSETFROM:+0200
TZOFFSETTO:+0100
TZNAME:CET
DTSTART:20251026T010000
END:STANDARD
END:VTIMEZONE
BEGIN:VEVENT
DTSTART;TZID=Europe/Paris:20241207T140000
DTEND;TZID=Europe/Paris:20241207T170000
DTSTAMP:20260423T144158
CREATED:20240918T152657Z
LAST-MODIFIED:20241023T114428Z
UID:1973-1733580000-1733590800@editions-jas-sauvages.fr
SUMMARY:Étude biblique (1) sur la notion d'amitié dans le Nouveau Testament
DESCRIPTION:La paroisse de Magnan propose une série de deux études bibliques sur le thème de « l’Amitié dans le Nouveau Testament »\, animée par Jacqueline Assaël\, à partir de son livre paru récemment aux éditions Olivétan (Vous\, vous êtes mes amis…) et de deux de ses recueils de poésie : Frère de silence et Nouaison\, parus aux éditions Jas sauvages. \nLa première séance aura lieu le 7 décembre 2024 de 14h à 17h\, au 8 boulevard Magnan. Elle situera la notion d’amitié dans le vocabulaire biblique\, à côté de la fraternité\, de l’amour\, etc. Puis elle sera centrée sur les beaux passages de l’Évangile de Luc dans lesquels il est question d’amitié. \nÀ noter aussi d’ores et déjà la date de la deuxième séance : 18 janvier 2025 (mêmes horaires\, même lieu). \nUn goûter convivial et amical permettra de continuer à discuter en commun à l’issue de la séance. \nVenez nombreux partager autour de l’Évangile ! \n  \n \n  \n  \n 
URL:https://editions-jas-sauvages.fr/event/etude-biblique-1-sur-la-notion-damitie-dans-le-nouveau-testament/
LOCATION:Église protestante unie de Marseille sud est\, 8 boulevard Magnan\, Marseille\, 13009\, France
CATEGORIES:ÉTUDE BIBLIQUE
END:VEVENT
END:VCALENDAR