BEGIN:VCALENDAR
VERSION:2.0
PRODID:-//Éditions Jas Sauvages - ECPv6.15.20//NONSGML v1.0//EN
CALSCALE:GREGORIAN
METHOD:PUBLISH
X-WR-CALNAME:Éditions Jas Sauvages
X-ORIGINAL-URL:https://editions-jas-sauvages.fr
X-WR-CALDESC:Évènements pour Éditions Jas Sauvages
REFRESH-INTERVAL;VALUE=DURATION:PT1H
X-Robots-Tag:noindex
X-PUBLISHED-TTL:PT1H
BEGIN:VTIMEZONE
TZID:Europe/Paris
BEGIN:DAYLIGHT
TZOFFSETFROM:+0100
TZOFFSETTO:+0200
TZNAME:CEST
DTSTART:20230326T010000
END:DAYLIGHT
BEGIN:STANDARD
TZOFFSETFROM:+0200
TZOFFSETTO:+0100
TZNAME:CET
DTSTART:20231029T010000
END:STANDARD
BEGIN:DAYLIGHT
TZOFFSETFROM:+0100
TZOFFSETTO:+0200
TZNAME:CEST
DTSTART:20240331T010000
END:DAYLIGHT
BEGIN:STANDARD
TZOFFSETFROM:+0200
TZOFFSETTO:+0100
TZNAME:CET
DTSTART:20241027T010000
END:STANDARD
BEGIN:DAYLIGHT
TZOFFSETFROM:+0100
TZOFFSETTO:+0200
TZNAME:CEST
DTSTART:20250330T010000
END:DAYLIGHT
BEGIN:STANDARD
TZOFFSETFROM:+0200
TZOFFSETTO:+0100
TZNAME:CET
DTSTART:20251026T010000
END:STANDARD
END:VTIMEZONE
BEGIN:VEVENT
DTSTART;TZID=Europe/Paris:20240611T183000
DTEND;TZID=Europe/Paris:20240611T200000
DTSTAMP:20260424T012152
CREATED:20240110T070652Z
LAST-MODIFIED:20240326T155621Z
UID:1293-1718130600-1718136000@editions-jas-sauvages.fr
SUMMARY:- Lecture de l'Épître aux Éphésiens à Salon-de-Provence\, avec Jacqueline Assaël
DESCRIPTION:Jacqueline Assaël ira partager une rencontre du groupe Théovie de la paroisse de l’Église protestante unie de Salon-de-Provence autour de l’Épître aux Éphésiens \n  \n  \n  \n 
URL:https://editions-jas-sauvages.fr/event/lecture-de-lepitre-aux-ephesiens-a-salon-de-provence/
LOCATION:Salle Galland\, 256 avenue Paul Bourret\, Salon-de-Provence\, 13300\, France
CATEGORIES:ÉTUDE BIBLIQUE
END:VEVENT
END:VCALENDAR