BEGIN:VCALENDAR
VERSION:2.0
PRODID:-//Éditions Jas Sauvages - ECPv6.15.20//NONSGML v1.0//EN
CALSCALE:GREGORIAN
METHOD:PUBLISH
X-WR-CALNAME:Éditions Jas Sauvages
X-ORIGINAL-URL:https://editions-jas-sauvages.fr
X-WR-CALDESC:Évènements pour Éditions Jas Sauvages
REFRESH-INTERVAL;VALUE=DURATION:PT1H
X-Robots-Tag:noindex
X-PUBLISHED-TTL:PT1H
BEGIN:VTIMEZONE
TZID:Europe/Paris
BEGIN:DAYLIGHT
TZOFFSETFROM:+0100
TZOFFSETTO:+0200
TZNAME:CEST
DTSTART:20250330T010000
END:DAYLIGHT
BEGIN:STANDARD
TZOFFSETFROM:+0200
TZOFFSETTO:+0100
TZNAME:CET
DTSTART:20251026T010000
END:STANDARD
BEGIN:DAYLIGHT
TZOFFSETFROM:+0100
TZOFFSETTO:+0200
TZNAME:CEST
DTSTART:20260329T010000
END:DAYLIGHT
BEGIN:STANDARD
TZOFFSETFROM:+0200
TZOFFSETTO:+0100
TZNAME:CET
DTSTART:20261025T010000
END:STANDARD
BEGIN:DAYLIGHT
TZOFFSETFROM:+0100
TZOFFSETTO:+0200
TZNAME:CEST
DTSTART:20270328T010000
END:DAYLIGHT
BEGIN:STANDARD
TZOFFSETFROM:+0200
TZOFFSETTO:+0100
TZNAME:CET
DTSTART:20271031T010000
END:STANDARD
END:VTIMEZONE
BEGIN:VEVENT
DTSTART;TZID=Europe/Paris:20260605T080000
DTEND;TZID=Europe/Paris:20260607T170000
DTSTAMP:20260420T034138
CREATED:20250924T185430Z
LAST-MODIFIED:20260306T144209Z
UID:2495-1780646400-1780851600@editions-jas-sauvages.fr
SUMMARY:- Septième Festival de poésie de la foi: "Heureux les doux\, car ils hériteront la terre"
DESCRIPTION:L’événement aura lieu dans la paroisse de l’Église protestante unie de Marseille sud est du 5 au 7 juin 2026. \nIntervenants: Jean Alexandre\, Jacqueline Assaël\, Philippe Depierre\, Olivier Millet\, Yves Ughes\, Jacqueline Wosinski… \nAu programme: Ateliers d’écriture\, conférences\, lectures\, présentation de recueils\, soirées spectacle\, etc. \nUne des journées du Festival se déroulera aux îles du Frioul\, avec un atelier d’écriture ambulant et des lectures sur le thème: « Heureux les doux\, car ils hériteront la terre » \nLe programme précis sera bientôt affiché.
URL:https://editions-jas-sauvages.fr/event/septieme-festival-de-poesie-de-la-foi/
LOCATION:Église protestante unie de Marseille sud est\, 8 boulevard Magnan\, Marseille\, 13009\, France
END:VEVENT
BEGIN:VEVENT
DTSTART;TZID=Europe/Paris:20260621T140000
DTEND;TZID=Europe/Paris:20260621T170000
DTSTAMP:20260420T034138
CREATED:20251109T161735Z
LAST-MODIFIED:20251109T162743Z
UID:2560-1782050400-1782061200@editions-jas-sauvages.fr
SUMMARY:- Écrire des haïku bibliques
DESCRIPTION:À l’exemple d’Étienne Pfender\, dont le recueil de haïkus bibliques paru aux éditions Jas sauvages sera présenté pour l’occasion\, la paroisse de Marseille-Provence pourra s’exercer à inscrire l’expression de sa foi dans le moule de ces tout petits poèmes dont la forme relève de la tradition japonaise. \nL’atelier d’écriture sera animé par Jacqueline Assaël.
URL:https://editions-jas-sauvages.fr/event/ecrire-des-haiku-bibliques/
LOCATION:Église protestante unie Marseille Provence\, 29 boulevard Françoise Duparc\, Marseille\, 13004\, France
CATEGORIES:Atelier d'écriture,Conférence
END:VEVENT
BEGIN:VEVENT
DTSTART;TZID=Europe/Paris:20260906T130000
DTEND;TZID=Europe/Paris:20260906T170000
DTSTAMP:20260420T034138
CREATED:20260405T074607Z
LAST-MODIFIED:20260405T074913Z
UID:2747-1788699600-1788714000@editions-jas-sauvages.fr
SUMMARY:- Exposition "Aquarelles et poésie: Lieux de recueillement du protestantisme"
DESCRIPTION:L’exposition se situera dans la Bergerie du mas Soubeyran\, sur le lieu de l’Assemblée du Désert\, le premier dimanche de septembre. \nElle réunira des aquarelles représentant des lieux de recueillement du protestantisme et\, en regard\, des fragments de poésie empruntés à plusieurs ouvrages de Jacqueline Assaël: \n\nL’humble beauté de Dieu. Prier aux Abeillères ou à Pomeyrol\, éditions Olivétan.\nFêter le Dire\, éditions Olivétan.\nNouaison\, éditions Jas sauvages.
URL:https://editions-jas-sauvages.fr/event/exposition-aquarelles-et-poesie-lieux-de-recueillement-du-protestantisme/
LOCATION:Bergerie du Mas Soubeyran\, Musée du Désert\, Mialet\, 30\, France
END:VEVENT
END:VCALENDAR